BEGIN:VCALENDAR
VERSION:2.0
PRODID:-//Plone.org//NONSGML plone.app.event//EN
X-WR-TIMEZONE:Europe/Brussels
BEGIN:VEVENT
SUMMARY:Denderdag 'Samen werken aan een Weerbaar Denderlandschap'
DTSTART;TZID=Europe/Brussels;VALUE=DATE-TIME:20250908T090000
DTEND;TZID=Europe/Brussels;VALUE=DATE-TIME:20250908T163000
DTSTAMP;VALUE=DATE-TIME:20260421T053305Z
UID:507c4f12f87c41ea97ee7aa2289c60fe@www.integraalwaterbeleid.be
CREATED;VALUE=DATE-TIME:20250522T093235Z
DESCRIPTION:Actief in het Denderbekken? Mis de allereerste Denderdag niet!
 \nEen dag vol inspiratie\, ontmoeting en actie voor iedereen die mee bouwt
  aan een veerkrachtige\, duurzame en leefbare Denderstreek.
LAST-MODIFIED;VALUE=DATE-TIME:20250626T140927Z
LOCATION:De Bonneterie\, Erembodegemstraat 31\, 9300 Aalst
URL:https://www.integraalwaterbeleid.be/nl/kalender/denderdag-samen-werken
 -aan-een-weerbaar-denderlandschap
END:VEVENT
BEGIN:VTIMEZONE
TZID:Europe/Brussels
X-LIC-LOCATION:Europe/Brussels
BEGIN:DAYLIGHT
DTSTART;VALUE=DATE-TIME:20250330T030000
TZNAME:CEST
TZOFFSETFROM:+0100
TZOFFSETTO:+0200
END:DAYLIGHT
END:VTIMEZONE
END:VCALENDAR
