BEGIN:VCALENDAR
VERSION:2.0
PRODID:-//Plone.org//NONSGML plone.app.event//EN
X-WR-TIMEZONE:Europe/Brussels
BEGIN:VEVENT
SUMMARY:Kennisdag Bevergraverij
DTSTART;TZID=Europe/Brussels;VALUE=DATE-TIME:20251113T090000
DTEND;TZID=Europe/Brussels;VALUE=DATE-TIME:20251113T170000
DTSTAMP;VALUE=DATE-TIME:20260421T070756Z
UID:ad27739c09b24a9aa58f67d1620b6955@www.integraalwaterbeleid.be
CREATED;VALUE=DATE-TIME:20251021T180613Z
LAST-MODIFIED;VALUE=DATE-TIME:20251105T152258Z
LOCATION:VAC\, Leuven\, Dirk Boutsgebouw\, Diestsepoort 6\, 3000 Leuven
URL:https://www.integraalwaterbeleid.be/nl/kalender/kennisdag-bevergraveri
 j
END:VEVENT
BEGIN:VTIMEZONE
TZID:Europe/Brussels
X-LIC-LOCATION:Europe/Brussels
BEGIN:STANDARD
DTSTART;VALUE=DATE-TIME:20251026T020000
TZNAME:CET
TZOFFSETFROM:+0200
TZOFFSETTO:+0100
END:STANDARD
END:VTIMEZONE
END:VCALENDAR
